BEGIN:VCALENDAR
VERSION:2.0
PRODID:-//Fluency Leadership - ECPv6.15.18//NONSGML v1.0//EN
CALSCALE:GREGORIAN
METHOD:PUBLISH
X-WR-CALNAME:Fluency Leadership
X-ORIGINAL-URL:https://www.fluencyleadership.com
X-WR-CALDESC:Events for Fluency Leadership
REFRESH-INTERVAL;VALUE=DURATION:PT1H
X-Robots-Tag:noindex
X-PUBLISHED-TTL:PT1H
BEGIN:VTIMEZONE
TZID:America/Vancouver
BEGIN:DAYLIGHT
TZOFFSETFROM:-0800
TZOFFSETTO:-0700
TZNAME:PDT
DTSTART:20240310T100000
END:DAYLIGHT
BEGIN:STANDARD
TZOFFSETFROM:-0700
TZOFFSETTO:-0800
TZNAME:PST
DTSTART:20241103T090000
END:STANDARD
BEGIN:DAYLIGHT
TZOFFSETFROM:-0800
TZOFFSETTO:-0700
TZNAME:PDT
DTSTART:20250309T100000
END:DAYLIGHT
BEGIN:STANDARD
TZOFFSETFROM:-0700
TZOFFSETTO:-0800
TZNAME:PST
DTSTART:20251102T090000
END:STANDARD
BEGIN:DAYLIGHT
TZOFFSETFROM:-0800
TZOFFSETTO:-0700
TZNAME:PDT
DTSTART:20260308T100000
END:DAYLIGHT
BEGIN:STANDARD
TZOFFSETFROM:-0700
TZOFFSETTO:-0800
TZNAME:PST
DTSTART:20261101T090000
END:STANDARD
END:VTIMEZONE
BEGIN:VEVENT
DTSTART;TZID=America/Vancouver:20250410T090000
DTEND;TZID=America/Vancouver:20250410T100000
DTSTAMP:20260424T055558
CREATED:20250401T044804Z
LAST-MODIFIED:20250401T223134Z
UID:29919-1744275600-1744279200@www.fluencyleadership.com
SUMMARY:Information Session: Survive to Thrive Coaching Program
DESCRIPTION:Survive to Thrive: Performance without Burnout – Information Session \nDate: April 10\, 2025\nTime: 9:00–10:00 am PT\nLocation: Virtual (Zoom link provided upon registration) \nCurious about the Survive to Thrive Coaching Program?\nJoin us for a behind-the-scenes look at this 10-week journey designed for leaders who feel overextended\, depleted\, or stuck in go-mode without time to reset. \nIn this session\, you’ll learn: \n\nWhy burnout is rising—and what actually helps\nWhat a 10-week commitment unlocks that one-off sessions don’t\nWho this is for (and who it’s not)\nHow we blend science\, story\, ancient philosophy\, and modern psychology\nWhat participants walk away with—like sustainable energy\, boundaries without guilt\, and renewed clarity\n\nYou’ll meet the facilitators\, get a feel for our approach\, and have space to ask questions before deciding if it’s a fit. \nCome curious. Leave clearer. \n 
URL:https://www.fluencyleadership.com/event/information-session-survive-to-thrive-coaching-program/
LOCATION:Online (Zoom)
CATEGORIES:Online
ATTACH;FMTTYPE=image/png:https://www.fluencyleadership.com/wp-content/uploads/2025/03/Information-Session-Image-e1743547089804.png
END:VEVENT
END:VCALENDAR